BEGIN:VCALENDAR
PRODID:-//Pixl8//Eventfolio//EN
VERSION:2.0
X-WR-TIMEZONE:America/Chicago
CALSCALE:GREGORIAN
METHOD:PUBLISH
CLASS:PUBLIC
BEGIN:VTIMEZONE
TZID:America/Chicago
LAST-MODIFIED:20260306T231828Z
TZURL:https://www.tzurl.org/zoneinfo-outlook/America/Chicago
X-LIC-LOCATION:America/Chicago
BEGIN:DAYLIGHT
TZNAME:CDT
TZOFFSETFROM:-0600
TZOFFSETTO:-0500
DTSTART:19700308T020000
RRULE:FREQ=YEARLY;BYMONTH=3;BYDAY=2SU
END:DAYLIGHT
BEGIN:STANDARD
TZNAME:CST
TZOFFSETFROM:-0500
TZOFFSETTO:-0600
DTSTART:19701101T020000
RRULE:FREQ=YEARLY;BYMONTH=11;BYDAY=1SU
END:STANDARD
END:VTIMEZONE
BEGIN:VEVENT
DTSTART;TZID=America/Chicago;VALUE=DATE:20170925
DTEND;TZID=America/Chicago;VALUE=DATE:20170926
DTSTAMP:20260423T111417Z
UID:{A6CB4AB6-722A-4C64-AD8C9AAF833F211E}
LOCATION:
SUMMARY:2017 Texas Land Institute - Houston, TX (webinar available)
DESCRIPTION:Event details: https://www.landman.org/events/event-calendar/2017-texas-land-institute--houston-tx-webinar-available-b79ac3b9c9647e8f95a77bccd841c4c3.html
PRIORITY:1
END:VEVENT
END:VCALENDAR