BEGIN:VCALENDAR
PRODID:-//Pixl8//Eventfolio//EN
VERSION:2.0
X-WR-TIMEZONE:America/Chicago
CALSCALE:GREGORIAN
METHOD:PUBLISH
CLASS:PUBLIC
BEGIN:VTIMEZONE
TZID:America/Chicago
LAST-MODIFIED:20260306T231828Z
TZURL:https://www.tzurl.org/zoneinfo-outlook/America/Chicago
X-LIC-LOCATION:America/Chicago
BEGIN:DAYLIGHT
TZNAME:CDT
TZOFFSETFROM:-0600
TZOFFSETTO:-0500
DTSTART:19700308T020000
RRULE:FREQ=YEARLY;BYMONTH=3;BYDAY=2SU
END:DAYLIGHT
BEGIN:STANDARD
TZNAME:CST
TZOFFSETFROM:-0500
TZOFFSETTO:-0600
DTSTART:19701101T020000
RRULE:FREQ=YEARLY;BYMONTH=11;BYDAY=1SU
END:STANDARD
END:VTIMEZONE
BEGIN:VEVENT
DTSTART;TZID=America/Chicago;VALUE=DATE:20220608
DTEND;TZID=America/Chicago;VALUE=DATE:20220609
DTSTAMP:20260423T111437Z
UID:{5E04D4CD-3D31-4BC6-B124D83C85E5DE51}
LOCATION:
SUMMARY:Comparison of New Mexico and Texas Oil and Gas Law
DESCRIPTION:Event details: https://www.landman.org/events/event-calendar/comparison-of-new-mexico-and-texas-oil-and-gas-law1c225ec01e50492ebd44152d18eebda4.html
PRIORITY:1
END:VEVENT
END:VCALENDAR