BEGIN:VCALENDAR
PRODID:-//Pixl8//Eventfolio//EN
VERSION:2.0
X-WR-TIMEZONE:America/Chicago
CALSCALE:GREGORIAN
METHOD:PUBLISH
CLASS:PUBLIC
BEGIN:VTIMEZONE
TZID:America/Chicago
LAST-MODIFIED:20260306T231828Z
TZURL:https://www.tzurl.org/zoneinfo-outlook/America/Chicago
X-LIC-LOCATION:America/Chicago
BEGIN:DAYLIGHT
TZNAME:CDT
TZOFFSETFROM:-0600
TZOFFSETTO:-0500
DTSTART:19700308T020000
RRULE:FREQ=YEARLY;BYMONTH=3;BYDAY=2SU
END:DAYLIGHT
BEGIN:STANDARD
TZNAME:CST
TZOFFSETFROM:-0500
TZOFFSETTO:-0600
DTSTART:19701101T020000
RRULE:FREQ=YEARLY;BYMONTH=11;BYDAY=1SU
END:STANDARD
END:VTIMEZONE
BEGIN:VEVENT
DTSTART;TZID=America/Chicago;VALUE=DATE:20250618
DTEND;TZID=America/Chicago;VALUE=DATE:20250619
DTSTAMP:20260423T111243Z
UID:{0583F076-3D64-401C-9F8AF68742F04A55}
LOCATION:
SUMMARY:Guest Ticket - Welcome and Closing Receptions
DESCRIPTION:Event details: https://www.landman.org/events/event-calendar/guest-ticket--welcome-and-closing-receptions818785a88b355ed9b869dfe212a4f5e7.html
PRIORITY:1
END:VEVENT
END:VCALENDAR