BEGIN:VCALENDAR
PRODID:-//Pixl8//Eventfolio//EN
VERSION:2.0
X-WR-TIMEZONE:America/Chicago
CALSCALE:GREGORIAN
METHOD:PUBLISH
CLASS:PUBLIC
BEGIN:VTIMEZONE
TZID:America/Chicago
LAST-MODIFIED:20260306T231828Z
TZURL:https://www.tzurl.org/zoneinfo-outlook/America/Chicago
X-LIC-LOCATION:America/Chicago
BEGIN:DAYLIGHT
TZNAME:CDT
TZOFFSETFROM:-0600
TZOFFSETTO:-0500
DTSTART:19700308T020000
RRULE:FREQ=YEARLY;BYMONTH=3;BYDAY=2SU
END:DAYLIGHT
BEGIN:STANDARD
TZNAME:CST
TZOFFSETFROM:-0500
TZOFFSETTO:-0600
DTSTART:19701101T020000
RRULE:FREQ=YEARLY;BYMONTH=11;BYDAY=1SU
END:STANDARD
END:VTIMEZONE
BEGIN:VEVENT
DTSTART;TZID=America/Chicago;VALUE=DATE:20250618
DTEND;TZID=America/Chicago;VALUE=DATE:20250621
DTSTAMP:20260423T053440Z
UID:{7029CFE4-7034-4AC5-B7042065677BB3D8}
LOCATION:
SUMMARY:Guest Ticket Bundle - Includes all F&B Events
DESCRIPTION:Event details: https://www.landman.org/events/event-calendar/guest-ticket-bundle--includes-all-f-b-events7d9a31de9674e1e84bab7aec8ccf4b6b.html
PRIORITY:1
END:VEVENT
END:VCALENDAR