BEGIN:VCALENDAR
PRODID:-//Pixl8//Eventfolio//EN
VERSION:2.0
X-WR-TIMEZONE:America/Chicago
CALSCALE:GREGORIAN
METHOD:PUBLISH
CLASS:PUBLIC
BEGIN:VTIMEZONE
TZID:America/Chicago
LAST-MODIFIED:20260306T231828Z
TZURL:https://www.tzurl.org/zoneinfo-outlook/America/Chicago
X-LIC-LOCATION:America/Chicago
BEGIN:DAYLIGHT
TZNAME:CDT
TZOFFSETFROM:-0600
TZOFFSETTO:-0500
DTSTART:19700308T020000
RRULE:FREQ=YEARLY;BYMONTH=3;BYDAY=2SU
END:DAYLIGHT
BEGIN:STANDARD
TZNAME:CST
TZOFFSETFROM:-0500
TZOFFSETTO:-0600
DTSTART:19701101T020000
RRULE:FREQ=YEARLY;BYMONTH=11;BYDAY=1SU
END:STANDARD
END:VTIMEZONE
BEGIN:VEVENT
DTSTART;TZID=America/Chicago;VALUE=DATE:20210314
DTEND;TZID=America/Chicago;VALUE=DATE:20210315
DTSTAMP:20260423T111224Z
UID:{7A77A8DE-FD8D-427E-B85C6E2EBF2A3268}
LOCATION:
SUMMARY:March Board Meeting 2021 Virtual
DESCRIPTION:Event details: https://www.landman.org/events/event-calendar/march-board-meeting-2021-virtualf64ad411bb9ceef640873481e0cf72fe.html
PRIORITY:1
END:VEVENT
END:VCALENDAR