BEGIN:VCALENDAR
PRODID:-//Pixl8//Eventfolio//EN
VERSION:2.0
X-WR-TIMEZONE:America/Chicago
CALSCALE:GREGORIAN
METHOD:PUBLISH
CLASS:PUBLIC
BEGIN:VTIMEZONE
TZID:America/Chicago
LAST-MODIFIED:20260306T231828Z
TZURL:https://www.tzurl.org/zoneinfo-outlook/America/Chicago
X-LIC-LOCATION:America/Chicago
BEGIN:DAYLIGHT
TZNAME:CDT
TZOFFSETFROM:-0600
TZOFFSETTO:-0500
DTSTART:19700308T020000
RRULE:FREQ=YEARLY;BYMONTH=3;BYDAY=2SU
END:DAYLIGHT
BEGIN:STANDARD
TZNAME:CST
TZOFFSETFROM:-0500
TZOFFSETTO:-0600
DTSTART:19701101T020000
RRULE:FREQ=YEARLY;BYMONTH=11;BYDAY=1SU
END:STANDARD
END:VTIMEZONE
BEGIN:VEVENT
DTSTART;TZID=America/Chicago;VALUE=DATE:20230615
DTEND;TZID=America/Chicago;VALUE=DATE:20230616
DTSTAMP:20260423T183218Z
UID:{2A5348BF-D852-45F2-A1983F20FE739A57}
LOCATION:
SUMMARY:Membership Luncheon and Business Meeting
DESCRIPTION:Event details: https://www.landman.org/events/event-calendar/membership-luncheon-and-business-meetingd5b96b7223782faa4a1496e4d7e78387.html
PRIORITY:1
END:VEVENT
END:VCALENDAR