BEGIN:VCALENDAR
PRODID:-//Pixl8//Eventfolio//EN
VERSION:2.0
X-WR-TIMEZONE:America/Chicago
CALSCALE:GREGORIAN
METHOD:PUBLISH
CLASS:PUBLIC
BEGIN:VTIMEZONE
TZID:America/Chicago
LAST-MODIFIED:20260306T231828Z
TZURL:https://www.tzurl.org/zoneinfo-outlook/America/Chicago
X-LIC-LOCATION:America/Chicago
BEGIN:DAYLIGHT
TZNAME:CDT
TZOFFSETFROM:-0600
TZOFFSETTO:-0500
DTSTART:19700308T020000
RRULE:FREQ=YEARLY;BYMONTH=3;BYDAY=2SU
END:DAYLIGHT
BEGIN:STANDARD
TZNAME:CST
TZOFFSETFROM:-0500
TZOFFSETTO:-0600
DTSTART:19701101T020000
RRULE:FREQ=YEARLY;BYMONTH=11;BYDAY=1SU
END:STANDARD
END:VTIMEZONE
BEGIN:VEVENT
DTSTART;TZID=America/Chicago;VALUE=DATE:20231115
DTEND;TZID=America/Chicago;VALUE=DATE:20231116
DTSTAMP:20260423T110915Z
UID:{E0D2C358-83A5-4970-A9F72DC8D9889D44}
LOCATION:
SUMMARY:Oil, Gas, Wind, & Solar: Accommodating Competing Surface Interests
DESCRIPTION:Event details: https://www.landman.org/events/event-calendar/oil-gas-wind--solar-accommodating-competing-surface-interests63853674.html
PRIORITY:1
END:VEVENT
END:VCALENDAR