BEGIN:VCALENDAR
PRODID:-//Pixl8//Eventfolio//EN
VERSION:2.0
X-WR-TIMEZONE:America/Chicago
CALSCALE:GREGORIAN
METHOD:PUBLISH
CLASS:PUBLIC
BEGIN:VTIMEZONE
TZID:America/Chicago
LAST-MODIFIED:20260306T231828Z
TZURL:https://www.tzurl.org/zoneinfo-outlook/America/Chicago
X-LIC-LOCATION:America/Chicago
BEGIN:DAYLIGHT
TZNAME:CDT
TZOFFSETFROM:-0600
TZOFFSETTO:-0500
DTSTART:19700308T020000
RRULE:FREQ=YEARLY;BYMONTH=3;BYDAY=2SU
END:DAYLIGHT
BEGIN:STANDARD
TZNAME:CST
TZOFFSETFROM:-0500
TZOFFSETTO:-0600
DTSTART:19701101T020000
RRULE:FREQ=YEARLY;BYMONTH=11;BYDAY=1SU
END:STANDARD
END:VTIMEZONE
BEGIN:VEVENT
DTSTART;TZID=America/Chicago;VALUE=DATE:20210624
DTEND;TZID=America/Chicago;VALUE=DATE:20210625
DTSTAMP:20260423T111404Z
UID:{7E6A9937-DFC6-4F0D-A40EE04375F23D29}
LOCATION:
SUMMARY:So You Drilled a Well - What Now?
DESCRIPTION:Event details: https://www.landman.org/events/event-calendar/so-you-drilled-a-well--what-now-03859f0b085a24f6a2f8363b07b4cc97.html
PRIORITY:1
END:VEVENT
END:VCALENDAR