BEGIN:VCALENDAR
PRODID:-//Pixl8//Eventfolio//EN
VERSION:2.0
X-WR-TIMEZONE:America/Winnipeg
CALSCALE:GREGORIAN
METHOD:PUBLISH
CLASS:PUBLIC
BEGIN:VTIMEZONE
TZID:America/Winnipeg
LAST-MODIFIED:20260306T231828Z
TZURL:https://www.tzurl.org/zoneinfo-outlook/America/Winnipeg
X-LIC-LOCATION:America/Winnipeg
BEGIN:DAYLIGHT
TZNAME:CDT
TZOFFSETFROM:-0600
TZOFFSETTO:-0500
DTSTART:19700308T020000
RRULE:FREQ=YEARLY;BYMONTH=3;BYDAY=2SU
END:DAYLIGHT
BEGIN:STANDARD
TZNAME:CST
TZOFFSETFROM:-0500
TZOFFSETTO:-0600
DTSTART:19701101T020000
RRULE:FREQ=YEARLY;BYMONTH=11;BYDAY=1SU
END:STANDARD
END:VTIMEZONE
BEGIN:VEVENT
DTSTART;TZID=America/Winnipeg:20260416T083000
DTEND;TZID=America/Winnipeg:20260416T153000
DTSTAMP:20260420T044418Z
UID:{3811400D-34AE-4385-8C3BC68D65ECC989}
LOCATION:
SUMMARY:Structuring a Deal: Negotiation Strategy and Technique
DESCRIPTION:Event details: https://www.landman.org/events/event-calendar/structuring-a-deal-negotiation-strategy-and-technique.html
PRIORITY:1
END:VEVENT
END:VCALENDAR