BEGIN:VCALENDAR
PRODID:-//Pixl8//Eventfolio//EN
VERSION:2.0
X-WR-TIMEZONE:America/Chicago
CALSCALE:GREGORIAN
METHOD:PUBLISH
CLASS:PUBLIC
BEGIN:VTIMEZONE
TZID:America/Chicago
LAST-MODIFIED:20260306T231828Z
TZURL:https://www.tzurl.org/zoneinfo-outlook/America/Chicago
X-LIC-LOCATION:America/Chicago
BEGIN:DAYLIGHT
TZNAME:CDT
TZOFFSETFROM:-0600
TZOFFSETTO:-0500
DTSTART:19700308T020000
RRULE:FREQ=YEARLY;BYMONTH=3;BYDAY=2SU
END:DAYLIGHT
BEGIN:STANDARD
TZNAME:CST
TZOFFSETFROM:-0500
TZOFFSETTO:-0600
DTSTART:19701101T020000
RRULE:FREQ=YEARLY;BYMONTH=11;BYDAY=1SU
END:STANDARD
END:VTIMEZONE
BEGIN:VEVENT
DTSTART;TZID=America/Chicago;VALUE=DATE:20201020
DTEND;TZID=America/Chicago;VALUE=DATE:20201021
DTSTAMP:20260423T053345Z
UID:{3F674EED-501C-429B-8CA52BB2BC8A3A2C}
LOCATION:
SUMMARY:Structuring a Deal: Negotiation Strategy and Technique  (Webinar)
DESCRIPTION:Event details: https://www.landman.org/events/event-calendar/structuring-a-deal-negotiation-strategy-and-technique--webinar-5188305.html
PRIORITY:1
END:VEVENT
END:VCALENDAR