BEGIN:VCALENDAR
PRODID:-//Pixl8//Eventfolio//EN
VERSION:2.0
X-WR-TIMEZONE:America/Chicago
CALSCALE:GREGORIAN
METHOD:PUBLISH
CLASS:PUBLIC
BEGIN:VTIMEZONE
TZID:America/Chicago
LAST-MODIFIED:20260306T231828Z
TZURL:https://www.tzurl.org/zoneinfo-outlook/America/Chicago
X-LIC-LOCATION:America/Chicago
BEGIN:DAYLIGHT
TZNAME:CDT
TZOFFSETFROM:-0600
TZOFFSETTO:-0500
DTSTART:19700308T020000
RRULE:FREQ=YEARLY;BYMONTH=3;BYDAY=2SU
END:DAYLIGHT
BEGIN:STANDARD
TZNAME:CST
TZOFFSETFROM:-0500
TZOFFSETTO:-0600
DTSTART:19701101T020000
RRULE:FREQ=YEARLY;BYMONTH=11;BYDAY=1SU
END:STANDARD
END:VTIMEZONE
BEGIN:VEVENT
DTSTART;TZID=America/Chicago;VALUE=DATE:20220113
DTEND;TZID=America/Chicago;VALUE=DATE:20220114
DTSTAMP:20260423T111113Z
UID:{5D186C26-F25A-4B9E-A98A46B4551845BA}
LOCATION:
SUMMARY:Structuring A Deal: Negotiation Strategy and Technique Seminar
DESCRIPTION:Event details: https://www.landman.org/events/event-calendar/structuring-a-deal-negotiation-strategy-and-technique-seminar753692f329fc5478ebca7ba351633209.html
PRIORITY:1
END:VEVENT
END:VCALENDAR