BEGIN:VCALENDAR
PRODID:-//Pixl8//Eventfolio//EN
VERSION:2.0
X-WR-TIMEZONE:America/Chicago
CALSCALE:GREGORIAN
METHOD:PUBLISH
CLASS:PUBLIC
BEGIN:VTIMEZONE
TZID:America/Chicago
LAST-MODIFIED:20260306T231828Z
TZURL:https://www.tzurl.org/zoneinfo-outlook/America/Chicago
X-LIC-LOCATION:America/Chicago
BEGIN:DAYLIGHT
TZNAME:CDT
TZOFFSETFROM:-0600
TZOFFSETTO:-0500
DTSTART:19700308T020000
RRULE:FREQ=YEARLY;BYMONTH=3;BYDAY=2SU
END:DAYLIGHT
BEGIN:STANDARD
TZNAME:CST
TZOFFSETFROM:-0500
TZOFFSETTO:-0600
DTSTART:19701101T020000
RRULE:FREQ=YEARLY;BYMONTH=11;BYDAY=1SU
END:STANDARD
END:VTIMEZONE
BEGIN:VEVENT
DTSTART;TZID=America/Chicago;VALUE=DATE:20230628
DTEND;TZID=America/Chicago;VALUE=DATE:20230629
DTSTAMP:20260423T110955Z
UID:{7CFBA49D-2239-4E49-9770ADB7CD2C65FB}
LOCATION:
SUMMARY:Surface Rights: Game-Changing Issues Surface Owners Must Deal With
DESCRIPTION:Event details: https://www.landman.org/events/event-calendar/surface-rights-game-changing-issues-surface-owners-must-deal-with54117161.html
PRIORITY:1
END:VEVENT
END:VCALENDAR