BEGIN:VCALENDAR
PRODID:-//Pixl8//Eventfolio//EN
VERSION:2.0
X-WR-TIMEZONE:America/Chicago
CALSCALE:GREGORIAN
METHOD:PUBLISH
CLASS:PUBLIC
BEGIN:VTIMEZONE
TZID:America/Chicago
LAST-MODIFIED:20260306T231828Z
TZURL:https://www.tzurl.org/zoneinfo-outlook/America/Chicago
X-LIC-LOCATION:America/Chicago
BEGIN:DAYLIGHT
TZNAME:CDT
TZOFFSETFROM:-0600
TZOFFSETTO:-0500
DTSTART:19700308T020000
RRULE:FREQ=YEARLY;BYMONTH=3;BYDAY=2SU
END:DAYLIGHT
BEGIN:STANDARD
TZNAME:CST
TZOFFSETFROM:-0500
TZOFFSETTO:-0600
DTSTART:19701101T020000
RRULE:FREQ=YEARLY;BYMONTH=11;BYDAY=1SU
END:STANDARD
END:VTIMEZONE
BEGIN:VEVENT
DTSTART;TZID=America/Chicago;VALUE=DATE:20220622
DTEND;TZID=America/Chicago;VALUE=DATE:20220623
DTSTAMP:20260423T111225Z
UID:{6BA50F7D-3745-451E-A1F0222C59C26A28}
LOCATION:
SUMMARY:Surface Use: Issues from Both Sides of the Fence
DESCRIPTION:Event details: https://www.landman.org/events/event-calendar/surface-use-issues-from-both-sides-of-the-fence8bd462defbe6e02770e71cb2ef3bdd91.html
PRIORITY:1
END:VEVENT
END:VCALENDAR